BEGIN:VCALENDAR
VERSION:2.0
PRODID:-//Dale Carnegie - ECPv6.15.20//NONSGML v1.0//EN
CALSCALE:GREGORIAN
METHOD:PUBLISH
X-ORIGINAL-URL:https://dalecarnegiebrasil.com
X-WR-CALDESC:Eventos para Dale Carnegie
REFRESH-INTERVAL;VALUE=DURATION:PT1H
X-Robots-Tag:noindex
X-PUBLISHED-TTL:PT1H
BEGIN:VTIMEZONE
TZID:America/Sao_Paulo
BEGIN:STANDARD
TZOFFSETFROM:-0300
TZOFFSETTO:-0300
TZNAME:-03
DTSTART:20240101T000000
END:STANDARD
END:VTIMEZONE
BEGIN:VEVENT
DTSTART;VALUE=DATE:20250622
DTEND;VALUE=DATE:20250623
DTSTAMP:20260424T140214
CREATED:20240918T134046Z
LAST-MODIFIED:20260424T122854Z
UID:2399-1750550400-1750636799@dalecarnegiebrasil.com
SUMMARY:Dale Carnegie Course
DESCRIPTION:Treinamento Dale Carnegie Course \nO Treinamento Dale Carnegie Course ajudará você a dominar as habilidades de comunicação essenciais para o ambiente de negócios exigente de hoje. Você desenvolverá uma atitude diferenciada\, assumindo responsabilidades com visão clara e confiança fortalecida. Além disso\, aprenderá a fortalecer seus relacionamentos interpessoais\, gerenciar o estresse e lidar com mudanças rápidas\, transmitindo confiança e entusiasmo em seu local de trabalho. \nO que você vai aprender\n• Construir confiança e motivar pessoas: Aprenda técnicas para projetar entusiasmo\, comunicar-se de forma lógica\, clara e concisa\, e engajar seus ouvintes.\n• Gerenciar o estresse e pensar positivamente: Descubra formas de administrar o estresse\, minimizar preocupações e incentivar o pensamento positivo.\n• Comprometimento com a melhoria contínua: Comprometa-se com seu crescimento pessoal e profissional através de práticas de melhoria contínua.\n• Acompanhar e medir resultados: Aprenda métodos para monitorar o retorno sobre o investimento (ROI) das suas ações e iniciativas\, garantindo que você e sua equipe alcancem resultados tangíveis e mensuráveis. \nPor que você quer aprender\nVocê estará mais bem preparado para se destacar como um comunicador influente\, solucionador de problemas e líder focado. Aprenderá a fortalecer os relacionamentos interpessoais\, administrar o estresse e lidar com condições de trabalho voláteis. Desenvolverá uma atitude de comando que nasce da confiança e do entusiasmo. Além disso\, você será capaz de monitorar e analisar o impacto das suas ações\, assegurando um crescimento contínuo e eficaz. \nComo isso vai ajudar você\nVocê enfrentará desafios complexos\, expandirá sua criatividade e fortalecerá a harmonia de equipe. As novas habilidades adquiridas ajudarão você a se tornar um comunicador mais persuasivo\, consolidando seu valor como profissional. Conforme você se torna mais apto a influenciar\, perceberá que está inspirando os outros à proatividade e inovação. Além disso\, com a capacidade de acompanhar o ROI das suas iniciativas\, você verá um aumento significativo nos resultados e na eficiência da sua equipe\, garantindo um desempenho superior e sustentável.
URL:http://dalecarnegiebrasil.com/evento/dale-carnegie-course-curitiba/
LOCATION:Curitiba\, PR
ATTACH;FMTTYPE=image/png:https://dalecarnegiebrasil.com/wp-content/uploads/2025/04/Turmas-Site-01.png
END:VEVENT
BEGIN:VEVENT
DTSTART;VALUE=DATE:20260225
DTEND;VALUE=DATE:20260226
DTSTAMP:20260424T140214
CREATED:20240606T023441Z
LAST-MODIFIED:20251024T152737Z
UID:2003-1771977600-1772063999@dalecarnegiebrasil.com
SUMMARY:Comunicação Eficaz e Relações Humanas
DESCRIPTION:O treinamento ECHR da Dale Carnegie é a versão online do treinamento tradicional de habilidades interpessoais e liderança\, com foco em comunicação\, controle de estresse e resultados. O programa é estruturado para proporcionar uma experiência de aprendizado robusta\, mantendo a essência dos princípios de Dale Carnegie em um ambiente virtual ao vivo.
URL:http://dalecarnegiebrasil.com/evento/comunicacao-eficaz-e-relacoes-humanas/
LOCATION:On-line
ATTACH;FMTTYPE=image/png:https://dalecarnegiebrasil.com/wp-content/uploads/2024/02/ECHR.png
END:VEVENT
END:VCALENDAR